Workbook

Sheet 拟聘
A1: 附件
A2: 三亚市公共卫生临床中心2026年公开（考核）招聘工作人员第一批拟聘用人员名单
A3: 序号 | B3: 姓名 | C3: 身份证号 | D3: 性别 | E3: 专业 | F3: 学历学位 | G3: 专业技术资格 | H3: 报考单位岗位 | I3: 总成绩 | J3: 考察结果 | K3: 备注
A4: 1 | B4: 何秀权 | C4: 230104********0214 | D4: 男 | E4: =VLOOKUP(B4,[1]花名册!$B$5:$I$28,8,0) -> 药理学 | F4: 研究生 医学硕士 | G4: 副主任药师 | H4: 003-药剂科学科带头人 | I4: 77.67 | J4: 合格
A5: 2 | B5: 杨名霞 | C5: 431003********4428 | D5: 女 | E5: =VLOOKUP(B5,[1]花名册!$B$5:$I$28,8,0) -> 针灸推拿学 | F5: 研究生 临床医学硕士 | G5: 副主任医师 | H5: 008-中医科学科带头人 | I5: 80.33 | J5: 合格
A6: 3 | B6: 张腾元 | C6: 230302********4023 | D6: 女 | E6: =VLOOKUP(B6,[1]花名册!$B$5:$I$28,8,0) -> 临床医学 | F6: 大学本科 医学学士 | G6: 副主任医师 | H6: 013-综合内科学科带头人 | I6: 64.67 | J6: 合格
A7: 4 | B7: 程倩怡 | C7: 230403********0429 | D7: 女 | E7: =VLOOKUP(B7,[1]花名册!$B$5:$I$28,8,0) -> 内科学 | F7: 研究生 临床医学硕士 | G7: 医师 | H7: 015-感染医师 | I7: 69.07 | J7: 合格
A8: 5 | B8: 吕雯丽 | C8: 460006********1647 | D8: 女 | E8: =VLOOKUP(B8,[1]花名册!$B$5:$I$28,8,0) -> 肿瘤学 | F8: 研究生 临床医学硕士 | G8: 医师 | H8: 015-感染医师 | I8: 61.93 | J8: 合格
A9: 6 | B9: 李可蕊 | C9: 460003********2628 | D9: 女 | E9: =VLOOKUP(B9,[1]花名册!$B$5:$I$28,8,0) -> 医学影像学 | F9: 大学本科 医学学士 | G9: 医师 | H9: 017-超声医师 | I9: 58.73 | J9: 合格
A10: 7 | B10: 郭惠珍 | C10: 460028********3226 | D10: 女 | E10: =VLOOKUP(B10,[1]花名册!$B$5:$I$28,8,0) -> 临床医学 | F10: 大学本科 医学学士 | G10: 医师 | H10: 018-心电图医师 | I10: 65.47 | J10: 合格
A11: 8 | B11: 王士芳 | C11: 460033********3881 | D11: 女 | E11: =VLOOKUP(B11,[1]花名册!$B$5:$I$28,8,0) -> 临床医学 | F11: 大学本科 医学学士 | G11: 医师 | H11: 018-心电图医师 | I11: 62.33 | J11: 合格
A12: 9 | B12: 殷卓 | C12: 152301********2022 | D12: 女 | E12: =VLOOKUP(B12,[1]花名册!$B$5:$I$28,8,0) -> 麻醉学 | F12: 研究生 临床医学硕士 | G12: 副主任医师 | H12: 019-麻醉医师 | I12: 78.33 | J12: 合格
A13: 10 | B13: 张龙星 | C13: 421182********0392 | D13: 男 | E13: =VLOOKUP(B13,[1]花名册!$B$5:$I$28,8,0) -> 麻醉学 | F13: 大学本科 医学学士 | G13: 医师 | H13: 019-麻醉医师 | I13: 76.67 | J13: 合格
A14: 11 | B14: 邓海颜 | C14: 460027********5949 | D14: 女 | E14: =VLOOKUP(B14,[1]花名册!$B$5:$I$28,8,0) -> 临床医学 | F14: 大学本科 医学学士 | G14: 医师 | H14: 020-重症医学医师 | I14: 57.77 | J14: 合格
A15: 12 | B15: 夏婷婷 | C15: 511681********0047 | D15: 女 | E15: =VLOOKUP(B15,[1]花名册!$B$5:$I$28,8,0) -> 预防医学 | F15: 大学本科 医学学士 | G15: 主治医师 | H15: 023-院感公卫医师 | I15: 88.47 | J15: 合格
... A26: 23 | B26: 郭禄彬 | C26: 460034********4717 | D26: 男 | E26: =VLOOKUP(B26,[1]花名册!$B$5:$I$28,8,0) -> 中药学 | F26: 大学本科 理学学士 | G26: 中药师 | H26: 034-中药师 | I26: 71.8 | J26: 合格
